BEGIN:VCALENDAR
VERSION:2.0
PRODID:-//NACC - ECPv6.15.17.1//NONSGML v1.0//EN
CALSCALE:GREGORIAN
METHOD:PUBLISH
X-WR-CALNAME:NACC
X-ORIGINAL-URL:https://nacconline.org
X-WR-CALDESC:Events for NACC
REFRESH-INTERVAL;VALUE=DURATION:PT1H
X-Robots-Tag:noindex
X-PUBLISHED-TTL:PT1H
BEGIN:VTIMEZONE
TZID:America/Detroit
BEGIN:DAYLIGHT
TZOFFSETFROM:-0500
TZOFFSETTO:-0400
TZNAME:EDT
DTSTART:20230312T070000
END:DAYLIGHT
BEGIN:STANDARD
TZOFFSETFROM:-0400
TZOFFSETTO:-0500
TZNAME:EST
DTSTART:20231105T060000
END:STANDARD
BEGIN:DAYLIGHT
TZOFFSETFROM:-0500
TZOFFSETTO:-0400
TZNAME:EDT
DTSTART:20240310T070000
END:DAYLIGHT
BEGIN:STANDARD
TZOFFSETFROM:-0400
TZOFFSETTO:-0500
TZNAME:EST
DTSTART:20241103T060000
END:STANDARD
BEGIN:DAYLIGHT
TZOFFSETFROM:-0500
TZOFFSETTO:-0400
TZNAME:EDT
DTSTART:20250309T070000
END:DAYLIGHT
BEGIN:STANDARD
TZOFFSETFROM:-0400
TZOFFSETTO:-0500
TZNAME:EST
DTSTART:20251102T060000
END:STANDARD
END:VTIMEZONE
BEGIN:VEVENT
DTSTART;VALUE=DATE:20240116
DTEND;VALUE=DATE:20240117
DTSTAMP:20260419T224415
CREATED:20240103T155949Z
LAST-MODIFIED:20240103T162359Z
UID:5641-1705363200-1705449599@nacconline.org
SUMMARY:Combined Christian Counseling Degree and Certification Program  Jan. 16 - Apr. 23
DESCRIPTION:7pm via Zoom\nJanuary 16\, 2024-April 23\, 2024 (weekly on Tuesdays)\nDr. Alice Millsap\, Professor \nThis program is designed for those interested in obtaining a Combined Christian Counseling Degree and Christian Counseling Certification.  Applicants must have an associate degree (if not they may test out/See Dr. Millsap for further details).  This program affords you the opportunity to complete your Certification and degree program in 12-16 months.  The student will further their education and enhance their knowledge by understanding the Christian\, Psychology and the Counselor\, and Counseling I and Counseling II.  For further details contact Dr. Alice Millsap @ 281-258-4943 or drmillsap@christianbibleinstitute.net. \nClick here to Register.
URL:https://nacconline.org/event/combined-christian-counseling-degree-and-certification-program-jan-16-apr-23/
LOCATION:Zoom Class
CATEGORIES:Zoom Class
ATTACH;FMTTYPE=image/jpeg:https://nacconline.org/wp-content/uploads/2022/12/qtq80-onV7s8.jpeg
END:VEVENT
BEGIN:VEVENT
DTSTART;VALUE=DATE:20240118
DTEND;VALUE=DATE:20240119
DTSTAMP:20260419T224415
CREATED:20240103T160331Z
LAST-MODIFIED:20240103T162122Z
UID:5643-1705536000-1705622399@nacconline.org
SUMMARY:Board Certified Lay Christian Counseling Certification Jan. 18 - Apr. 18
DESCRIPTION:7pm via Zoom\nJanuary 18\, 2024-April 18\, 2024 (weekly on Thursdays)\nDr. Alice Millsap\, Director/Instructor \nThis is an introductory program to Christian Counseling for the Lay Counselor.  It is designed for those desiring and have a heart to help hurting people in the local church.  This program will equip the lay counselor with not just a listening ear but with sound and proven Biblical principles\, along with various tools and techniques to implement in helping the counselee deal with issues and challenges through tangible application.  This program will help and teach the lay counselors how to keep accurate records and thus provide the counselee with the proper guidance and help needed to move from the emotional\, personal\, and relational crises they may be facing in the moment and from past experiences.  This program also allows the lay counselors to put into practice learned skills from this course through the Clinicals at the end of the course. \nFor further details contact Dr. Alice Millsap @ 281-258-4943 or drmillsap@christianbibleinstitute.net. \nClick here to Register.
URL:https://nacconline.org/event/board-certified-lay-christian-counseling-certification-jan-18-apr-18/
LOCATION:Zoom Class
CATEGORIES:Zoom Class
ATTACH;FMTTYPE=image/jpeg:https://nacconline.org/wp-content/uploads/2022/12/qtq80-onV7s8.jpeg
END:VEVENT
END:VCALENDAR