BEGIN:VCALENDAR
VERSION:2.0
PRODID:-//NACC - ECPv6.15.17.1//NONSGML v1.0//EN
CALSCALE:GREGORIAN
METHOD:PUBLISH
X-WR-CALNAME:NACC
X-ORIGINAL-URL:https://nacconline.org
X-WR-CALDESC:Events for NACC
REFRESH-INTERVAL;VALUE=DURATION:PT1H
X-Robots-Tag:noindex
X-PUBLISHED-TTL:PT1H
BEGIN:VTIMEZONE
TZID:America/Detroit
BEGIN:DAYLIGHT
TZOFFSETFROM:-0500
TZOFFSETTO:-0400
TZNAME:EDT
DTSTART:20250309T070000
END:DAYLIGHT
BEGIN:STANDARD
TZOFFSETFROM:-0400
TZOFFSETTO:-0500
TZNAME:EST
DTSTART:20251102T060000
END:STANDARD
BEGIN:DAYLIGHT
TZOFFSETFROM:-0500
TZOFFSETTO:-0400
TZNAME:EDT
DTSTART:20260308T070000
END:DAYLIGHT
BEGIN:STANDARD
TZOFFSETFROM:-0400
TZOFFSETTO:-0500
TZNAME:EST
DTSTART:20261101T060000
END:STANDARD
BEGIN:DAYLIGHT
TZOFFSETFROM:-0500
TZOFFSETTO:-0400
TZNAME:EDT
DTSTART:20270314T070000
END:DAYLIGHT
BEGIN:STANDARD
TZOFFSETFROM:-0400
TZOFFSETTO:-0500
TZNAME:EST
DTSTART:20271107T060000
END:STANDARD
END:VTIMEZONE
BEGIN:VEVENT
DTSTART;VALUE=DATE:20260919
DTEND;VALUE=DATE:20260920
DTSTAMP:20260419T100407
CREATED:20251022T023112Z
LAST-MODIFIED:20251022T023112Z
UID:9341-1789776000-1789862399@nacconline.org
SUMMARY:Loss and Grief Counselor Certification Sept 19th to Nov 21st
DESCRIPTION:Sept. 19th to Nov. 21st.  Convenient ten-week path to Coaching Certification with weekly two hour classes live on Zoom. Classes are held on Saturday nights There are four class schedules to choose from: \n\nFeb. 7th  to April 11th\nApril 25th  to June 27th\nJuly 11th to Sept. 12th\nSept. 19th to Nov. 21st\n\nWhen you register\, please select the start date of the 10-week class schedule you wish to join. \nClick here to Register.
URL:https://nacconline.org/event/loss-and-grief-counselor-certification-sept-19th-to-nov-21st/
CATEGORIES:Zoom Class
ATTACH;FMTTYPE=image/jpeg:https://nacconline.org/wp-content/uploads/2022/08/Loss-and-Grief-Training-Certification-Program.jpg
END:VEVENT
END:VCALENDAR