BEGIN:VCALENDAR
VERSION:2.0
PRODID:-//NACC - ECPv6.15.17.1//NONSGML v1.0//EN
CALSCALE:GREGORIAN
METHOD:PUBLISH
X-ORIGINAL-URL:https://nacconline.org
X-WR-CALDESC:Events for NACC
REFRESH-INTERVAL;VALUE=DURATION:PT1H
X-Robots-Tag:noindex
X-PUBLISHED-TTL:PT1H
BEGIN:VTIMEZONE
TZID:America/Detroit
BEGIN:DAYLIGHT
TZOFFSETFROM:-0500
TZOFFSETTO:-0400
TZNAME:EDT
DTSTART:20250309T070000
END:DAYLIGHT
BEGIN:STANDARD
TZOFFSETFROM:-0400
TZOFFSETTO:-0500
TZNAME:EST
DTSTART:20251102T060000
END:STANDARD
BEGIN:DAYLIGHT
TZOFFSETFROM:-0500
TZOFFSETTO:-0400
TZNAME:EDT
DTSTART:20260308T070000
END:DAYLIGHT
BEGIN:STANDARD
TZOFFSETFROM:-0400
TZOFFSETTO:-0500
TZNAME:EST
DTSTART:20261101T060000
END:STANDARD
BEGIN:DAYLIGHT
TZOFFSETFROM:-0500
TZOFFSETTO:-0400
TZNAME:EDT
DTSTART:20270314T070000
END:DAYLIGHT
BEGIN:STANDARD
TZOFFSETFROM:-0400
TZOFFSETTO:-0500
TZNAME:EST
DTSTART:20271107T060000
END:STANDARD
END:VTIMEZONE
BEGIN:VEVENT
DTSTART;VALUE=DATE:20260425
DTEND;VALUE=DATE:20260426
DTSTAMP:20260419T101118
CREATED:20251022T022932Z
LAST-MODIFIED:20251022T022932Z
UID:9337-1777075200-1777161599@nacconline.org
SUMMARY:Loss and Grief Counselor Certification April 25th  to June 27th
DESCRIPTION:April 25th  to June 27th.  Convenient ten-week path to Coaching Certification with weekly two hour classes live on Zoom. Classes are held on Saturday nights There are four class schedules to choose from: \n\nFeb. 7th  to April 11th\nApril 25th  to June 27th\nJuly 11th to Sept. 12th\nSept. 19th to Nov. 21st\n\nWhen you register\, please select the start date of the 10-week class schedule you wish to join. \nClick here to Register.
URL:https://nacconline.org/event/loss-and-grief-counselor-certification-april-25th-to-june-27th/
CATEGORIES:Zoom Class
ATTACH;FMTTYPE=image/jpeg:https://nacconline.org/wp-content/uploads/2022/08/Loss-and-Grief-Training-Certification-Program.jpg
END:VEVENT
BEGIN:VEVENT
DTSTART;VALUE=DATE:20260426
DTEND;VALUE=DATE:20260427
DTSTAMP:20260419T101118
CREATED:20221206T162131Z
LAST-MODIFIED:20251022T020529Z
UID:3747-1777161600-1777247999@nacconline.org
SUMMARY:Board Certified Christian Counseling Certification Class April 26th to June 28th
DESCRIPTION:April 26th to June 28th. Convenient ten-week path to Christian Counseling Certification with weekly two hour classes live on Zoom. Classes are held on Sunday nights. There are four class schedules to choose from: \n\nFeb. 8th to April 12th\nApril 26th to June 28th\nJuly 12th to Sept. 13th\nSept. 20th to Nov. 22nd\n\nWhen you register\, please select the start date of the 10-week class schedule you wish to join. \nClick here to Register.
URL:https://nacconline.org/event/board-certified-christian-counseling-certification-class-april-26th-to-june-28th/
LOCATION:Zoom Class
CATEGORIES:Zoom Class
ATTACH;FMTTYPE=image/jpeg:https://nacconline.org/wp-content/uploads/2022/12/qtq80-i0hfpl.jpeg
END:VEVENT
BEGIN:VEVENT
DTSTART;VALUE=DATE:20260427
DTEND;VALUE=DATE:20260428
DTSTAMP:20260419T101118
CREATED:20221206T160241Z
LAST-MODIFIED:20251022T021553Z
UID:3740-1777248000-1777334399@nacconline.org
SUMMARY:Board Certified Christian Counseling Certification Class Apr 27th to Jun 29th
DESCRIPTION:Apr 27th to Jun 29th. Convenient ten-week path to Christian Counseling Certification with weekly two hour classes live on Zoom. Classes are held on Monday nights. There are four class schedules to choose from: \n\nFeb 9th to April 13th\nApr 27th to Jun 29th\nJul 13th to Sep 14th\nSep 21st to Nov 23rd\n\nWhen you register\, please select the start date of the 10-week class schedule you wish to join. \nClick here to Register.
URL:https://nacconline.org/event/board-certified-christian-counseling-certification-class-apr-27th-to-jun-29th/
LOCATION:Zoom Class
CATEGORIES:Zoom Class
ATTACH;FMTTYPE=image/jpeg:https://nacconline.org/wp-content/uploads/2022/12/qtq80-i0hfpl.jpeg
END:VEVENT
BEGIN:VEVENT
DTSTART;VALUE=DATE:20260428
DTEND;VALUE=DATE:20260429
DTSTAMP:20260419T101118
CREATED:20221206T153523Z
LAST-MODIFIED:20251021T221911Z
UID:3709-1777334400-1777420799@nacconline.org
SUMMARY:Certified Christian Life Coach Class April 28th to June 30th
DESCRIPTION:April 28th to June 30th.  Convenient ten-week path to Coaching Certification with weekly two hour classes live on Zoom. Classes are held on Tuesday nights There are four class schedules to choose from: \n\nFeb. 10th to April 14th\nApril 28th to June 30th\nJuly 14th to Sept. 15th\nSept. 22nd to Nov. 24th\n\nWhen you register\, please select the start date of the 10-week class schedule you wish to join. \nClick here to Register.
URL:https://nacconline.org/event/certified-christian-life-coach-class-april-28th-to-june-30th/
LOCATION:Zoom Class
CATEGORIES:Zoom Class
ATTACH;FMTTYPE=image/jpeg:https://nacconline.org/wp-content/uploads/2022/12/qtq80-NS7xFT.jpeg
END:VEVENT
END:VCALENDAR