BEGIN:VCALENDAR
VERSION:2.0
PRODID:-//NACC - ECPv6.15.17.1//NONSGML v1.0//EN
CALSCALE:GREGORIAN
METHOD:PUBLISH
X-WR-CALNAME:NACC
X-ORIGINAL-URL:https://nacconline.org
X-WR-CALDESC:Events for NACC
REFRESH-INTERVAL;VALUE=DURATION:PT1H
X-Robots-Tag:noindex
X-PUBLISHED-TTL:PT1H
BEGIN:VTIMEZONE
TZID:America/Detroit
BEGIN:DAYLIGHT
TZOFFSETFROM:-0500
TZOFFSETTO:-0400
TZNAME:EDT
DTSTART:20250309T070000
END:DAYLIGHT
BEGIN:STANDARD
TZOFFSETFROM:-0400
TZOFFSETTO:-0500
TZNAME:EST
DTSTART:20251102T060000
END:STANDARD
BEGIN:DAYLIGHT
TZOFFSETFROM:-0500
TZOFFSETTO:-0400
TZNAME:EDT
DTSTART:20260308T070000
END:DAYLIGHT
BEGIN:STANDARD
TZOFFSETFROM:-0400
TZOFFSETTO:-0500
TZNAME:EST
DTSTART:20261101T060000
END:STANDARD
BEGIN:DAYLIGHT
TZOFFSETFROM:-0500
TZOFFSETTO:-0400
TZNAME:EDT
DTSTART:20270314T070000
END:DAYLIGHT
BEGIN:STANDARD
TZOFFSETFROM:-0400
TZOFFSETTO:-0500
TZNAME:EST
DTSTART:20271107T060000
END:STANDARD
END:VTIMEZONE
BEGIN:VEVENT
DTSTART;VALUE=DATE:20260921
DTEND;VALUE=DATE:20260922
DTSTAMP:20260419T190040
CREATED:20231017T133512Z
LAST-MODIFIED:20251022T021246Z
UID:5038-1789948800-1790035199@nacconline.org
SUMMARY:Board Certified Christian Counseling Certification Class Sept 21st to Nov. 23rd
DESCRIPTION:Sept 21st to Nov. 23rd. Convenient ten-week path to Christian Counseling Certification with weekly two hour classes live on Zoom. Classes are held on Monday nights. There are four class schedules to choose from: \n\nFeb. 9th to April 13th\nApril 27th to June 29th\nJuly 13th to Sept. 14th\nSept. 21st to Nov. 23rd\n\nWhen you register\, please select the start date of the 10-week class schedule you wish to join. \nClick here to Register.
URL:https://nacconline.org/event/board-certified-christian-counseling-certification-class-sept-21st-to-nov-23rd/
LOCATION:Zoom Class
CATEGORIES:Zoom Class
ATTACH;FMTTYPE=image/jpeg:https://nacconline.org/wp-content/uploads/2022/12/qtq80-i0hfpl.jpeg
END:VEVENT
END:VCALENDAR